BEGIN:VCALENDAR
VERSION:2.0
PRODID:-//Ogden Weber Technical College - ECPv6.15.18//NONSGML v1.0//EN
CALSCALE:GREGORIAN
METHOD:PUBLISH
X-WR-CALNAME:Ogden Weber Technical College
X-ORIGINAL-URL:https://www.otech.edu
X-WR-CALDESC:Events for Ogden Weber Technical College
REFRESH-INTERVAL;VALUE=DURATION:PT1H
X-Robots-Tag:noindex
X-PUBLISHED-TTL:PT1H
BEGIN:VTIMEZONE
TZID:America/Boise
BEGIN:DAYLIGHT
TZOFFSETFROM:-0700
TZOFFSETTO:-0600
TZNAME:MDT
DTSTART:20250309T090000
END:DAYLIGHT
BEGIN:STANDARD
TZOFFSETFROM:-0600
TZOFFSETTO:-0700
TZNAME:MST
DTSTART:20251102T080000
END:STANDARD
BEGIN:DAYLIGHT
TZOFFSETFROM:-0700
TZOFFSETTO:-0600
TZNAME:MDT
DTSTART:20260308T090000
END:DAYLIGHT
BEGIN:STANDARD
TZOFFSETFROM:-0600
TZOFFSETTO:-0700
TZNAME:MST
DTSTART:20261101T080000
END:STANDARD
BEGIN:DAYLIGHT
TZOFFSETFROM:-0700
TZOFFSETTO:-0600
TZNAME:MDT
DTSTART:20270314T090000
END:DAYLIGHT
BEGIN:STANDARD
TZOFFSETFROM:-0600
TZOFFSETTO:-0700
TZNAME:MST
DTSTART:20271107T080000
END:STANDARD
END:VTIMEZONE
BEGIN:VEVENT
DTSTART;TZID=America/Boise:20261013T080000
DTEND;TZID=America/Boise:20261013T120000
DTSTAMP:20260423T201846
CREATED:20251222T213413Z
LAST-MODIFIED:20251222T213413Z
UID:24568-1791878400-1791892800@www.otech.edu
SUMMARY:Business Writing
DESCRIPTION:Often as leaders\, we must communicate in writing for many different purposes. It could be placing an order\, a corrective action\, professional development\, congratulations\, executive response\, etc. Grammar\, punctuation\, and effective messaging reflect you as a leader. Learn how to avoid many common mistakes and elevate your written communication.
URL:https://www.otech.edu/event/business-writing/
CATEGORIES:Workshop Series
END:VEVENT
END:VCALENDAR