BEGIN:VCALENDAR
VERSION:2.0
PRODID:-//Ogden Weber Technical College - ECPv6.15.18//NONSGML v1.0//EN
CALSCALE:GREGORIAN
METHOD:PUBLISH
X-WR-CALNAME:Ogden Weber Technical College
X-ORIGINAL-URL:https://www.otech.edu
X-WR-CALDESC:Events for Ogden Weber Technical College
REFRESH-INTERVAL;VALUE=DURATION:PT1H
X-Robots-Tag:noindex
X-PUBLISHED-TTL:PT1H
BEGIN:VTIMEZONE
TZID:America/Boise
BEGIN:DAYLIGHT
TZOFFSETFROM:-0700
TZOFFSETTO:-0600
TZNAME:MDT
DTSTART:20240310T090000
END:DAYLIGHT
BEGIN:STANDARD
TZOFFSETFROM:-0600
TZOFFSETTO:-0700
TZNAME:MST
DTSTART:20241103T080000
END:STANDARD
BEGIN:DAYLIGHT
TZOFFSETFROM:-0700
TZOFFSETTO:-0600
TZNAME:MDT
DTSTART:20250309T090000
END:DAYLIGHT
BEGIN:STANDARD
TZOFFSETFROM:-0600
TZOFFSETTO:-0700
TZNAME:MST
DTSTART:20251102T080000
END:STANDARD
BEGIN:DAYLIGHT
TZOFFSETFROM:-0700
TZOFFSETTO:-0600
TZNAME:MDT
DTSTART:20260308T090000
END:DAYLIGHT
BEGIN:STANDARD
TZOFFSETFROM:-0600
TZOFFSETTO:-0700
TZNAME:MST
DTSTART:20261101T080000
END:STANDARD
END:VTIMEZONE
BEGIN:VEVENT
DTSTART;TZID=America/Boise:20250911T080000
DTEND;TZID=America/Boise:20250911T170000
DTSTAMP:20260424T044057
CREATED:20250911T160019Z
LAST-MODIFIED:20251013T165752Z
UID:23426-1757577600-1757610000@www.otech.edu
SUMMARY:Clinical Curiosity Camp
DESCRIPTION:Interested in a career in healthcare? Spend a day touring our health programs to find the best fit for you! Spend one full day exploring the college’s health programs. Participate in hands-on activities in our Dental Assisting\, Medical Assistant\, Medical Coding and Billing\, Nursing Assistant\, Pharmacy Technician\, and Practical Nursing programs.
URL:https://www.otech.edu/event/clinical-curiosity-camp/
LOCATION:Bay 2\, BDO Campus\, 918 West 2nd Street\, Building 10\, Ogden\, UT 84404\, 918 West 2nd Street\, Ogden\, UT\, 84404\, United States
CATEGORIES:Summer Camps
ATTACH;FMTTYPE=image/svg+xml:https://www.otech.edu/wp-content/uploads/2025/09/purple-hand-plus-cross.svg
END:VEVENT
END:VCALENDAR