BEGIN:VCALENDAR
VERSION:2.0
PRODID:-//Ogden Weber Technical College - ECPv6.15.18//NONSGML v1.0//EN
CALSCALE:GREGORIAN
METHOD:PUBLISH
X-WR-CALNAME:Ogden Weber Technical College
X-ORIGINAL-URL:https://www.otech.edu
X-WR-CALDESC:Events for Ogden Weber Technical College
REFRESH-INTERVAL;VALUE=DURATION:PT1H
X-Robots-Tag:noindex
X-PUBLISHED-TTL:PT1H
BEGIN:VTIMEZONE
TZID:America/Boise
BEGIN:DAYLIGHT
TZOFFSETFROM:-0700
TZOFFSETTO:-0600
TZNAME:MDT
DTSTART:20250309T090000
END:DAYLIGHT
BEGIN:STANDARD
TZOFFSETFROM:-0600
TZOFFSETTO:-0700
TZNAME:MST
DTSTART:20251102T080000
END:STANDARD
BEGIN:DAYLIGHT
TZOFFSETFROM:-0700
TZOFFSETTO:-0600
TZNAME:MDT
DTSTART:20260308T090000
END:DAYLIGHT
BEGIN:STANDARD
TZOFFSETFROM:-0600
TZOFFSETTO:-0700
TZNAME:MST
DTSTART:20261101T080000
END:STANDARD
BEGIN:DAYLIGHT
TZOFFSETFROM:-0700
TZOFFSETTO:-0600
TZNAME:MDT
DTSTART:20270314T090000
END:DAYLIGHT
BEGIN:STANDARD
TZOFFSETFROM:-0600
TZOFFSETTO:-0700
TZNAME:MST
DTSTART:20271107T080000
END:STANDARD
END:VTIMEZONE
BEGIN:VEVENT
DTSTART;TZID=America/Boise:20260421T120000
DTEND;TZID=America/Boise:20260421T130000
DTSTAMP:20260423T232559
CREATED:20260326T220045Z
LAST-MODIFIED:20260326T220045Z
UID:27065-1776772800-1776776400@www.otech.edu
SUMMARY:Creative Wellness Workshop
DESCRIPTION:Relax\, support your mental health\, and learn to paint on fabric with watercolors. \nThe workshop will be with Audrey Christensen\, artist\, writer\, and founder of Ogden’s “The Yart Sale” \nFree lunch included!
URL:https://www.otech.edu/event/creative-wellness-workshop/
LOCATION:Cross Hall\, Health Technology building\, Main Campus\, 200 N Washington Blvd\, Ogden\, UT
CATEGORIES:Student Success Center
END:VEVENT
END:VCALENDAR