BEGIN:VCALENDAR
VERSION:2.0
PRODID:-//Ogden Weber Technical College - ECPv6.15.18//NONSGML v1.0//EN
CALSCALE:GREGORIAN
METHOD:PUBLISH
X-WR-CALNAME:Ogden Weber Technical College
X-ORIGINAL-URL:https://www.otech.edu
X-WR-CALDESC:Events for Ogden Weber Technical College
REFRESH-INTERVAL;VALUE=DURATION:PT1H
X-Robots-Tag:noindex
X-PUBLISHED-TTL:PT1H
BEGIN:VTIMEZONE
TZID:America/Boise
BEGIN:DAYLIGHT
TZOFFSETFROM:-0700
TZOFFSETTO:-0600
TZNAME:MDT
DTSTART:20250309T090000
END:DAYLIGHT
BEGIN:STANDARD
TZOFFSETFROM:-0600
TZOFFSETTO:-0700
TZNAME:MST
DTSTART:20251102T080000
END:STANDARD
BEGIN:DAYLIGHT
TZOFFSETFROM:-0700
TZOFFSETTO:-0600
TZNAME:MDT
DTSTART:20260308T090000
END:DAYLIGHT
BEGIN:STANDARD
TZOFFSETFROM:-0600
TZOFFSETTO:-0700
TZNAME:MST
DTSTART:20261101T080000
END:STANDARD
BEGIN:DAYLIGHT
TZOFFSETFROM:-0700
TZOFFSETTO:-0600
TZNAME:MDT
DTSTART:20270314T090000
END:DAYLIGHT
BEGIN:STANDARD
TZOFFSETFROM:-0600
TZOFFSETTO:-0700
TZNAME:MST
DTSTART:20271107T080000
END:STANDARD
END:VTIMEZONE
BEGIN:VEVENT
DTSTART;TZID=America/Boise:20261110T080000
DTEND;TZID=America/Boise:20261110T120000
DTSTAMP:20260423T170212
CREATED:20251222T213514Z
LAST-MODIFIED:20251222T213514Z
UID:24569-1794297600-1794312000@www.otech.edu
SUMMARY:Effective Presentations
DESCRIPTION:Whether it is a 5-minute shift change meeting or a presentation to the executive board\, the principles are the same. The ability to deliver information effectively is crucial to leadership success. Learn to organize your ideas to effectively present in any environment.
URL:https://www.otech.edu/event/effective-presentations/
CATEGORIES:Workshop Series
END:VEVENT
END:VCALENDAR