BEGIN:VCALENDAR
VERSION:2.0
PRODID:-//Ogden Weber Technical College - ECPv6.15.18//NONSGML v1.0//EN
CALSCALE:GREGORIAN
METHOD:PUBLISH
X-WR-CALNAME:Ogden Weber Technical College
X-ORIGINAL-URL:https://www.otech.edu
X-WR-CALDESC:Events for Ogden Weber Technical College
REFRESH-INTERVAL;VALUE=DURATION:PT1H
X-Robots-Tag:noindex
X-PUBLISHED-TTL:PT1H
BEGIN:VTIMEZONE
TZID:America/Boise
BEGIN:DAYLIGHT
TZOFFSETFROM:-0700
TZOFFSETTO:-0600
TZNAME:MDT
DTSTART:20250309T090000
END:DAYLIGHT
BEGIN:STANDARD
TZOFFSETFROM:-0600
TZOFFSETTO:-0700
TZNAME:MST
DTSTART:20251102T080000
END:STANDARD
BEGIN:DAYLIGHT
TZOFFSETFROM:-0700
TZOFFSETTO:-0600
TZNAME:MDT
DTSTART:20260308T090000
END:DAYLIGHT
BEGIN:STANDARD
TZOFFSETFROM:-0600
TZOFFSETTO:-0700
TZNAME:MST
DTSTART:20261101T080000
END:STANDARD
BEGIN:DAYLIGHT
TZOFFSETFROM:-0700
TZOFFSETTO:-0600
TZNAME:MDT
DTSTART:20270314T090000
END:DAYLIGHT
BEGIN:STANDARD
TZOFFSETFROM:-0600
TZOFFSETTO:-0700
TZNAME:MST
DTSTART:20271107T080000
END:STANDARD
END:VTIMEZONE
BEGIN:VEVENT
DTSTART;TZID=America/Boise:20260811T080000
DTEND;TZID=America/Boise:20260811T120000
DTSTAMP:20260423T203614
CREATED:20251222T213236Z
LAST-MODIFIED:20251222T213236Z
UID:24566-1786435200-1786449600@www.otech.edu
SUMMARY:Employment Law for Leaders with Jonathan Driggs
DESCRIPTION:Your supervisors\, managers\, and executives have the most day-to-day interaction with employees\, yet they usually know the least about employment laws. This results in a tremendous amount of your company’s legal liability in the hands of the uninformed. The best way to reduce a company’s liability risk is to get the information in the hands of those who need it the most: your supervisors\, managers and executives. \nRegister
URL:https://www.otech.edu/event/employment-law-for-leaders-with-jonathan-driggs/
CATEGORIES:Workshop Series
END:VEVENT
END:VCALENDAR