BEGIN:VCALENDAR
VERSION:2.0
PRODID:-//Ogden Weber Technical College - ECPv6.15.18//NONSGML v1.0//EN
CALSCALE:GREGORIAN
METHOD:PUBLISH
X-WR-CALNAME:Ogden Weber Technical College
X-ORIGINAL-URL:https://www.otech.edu
X-WR-CALDESC:Events for Ogden Weber Technical College
REFRESH-INTERVAL;VALUE=DURATION:PT1H
X-Robots-Tag:noindex
X-PUBLISHED-TTL:PT1H
BEGIN:VTIMEZONE
TZID:America/Boise
BEGIN:DAYLIGHT
TZOFFSETFROM:-0700
TZOFFSETTO:-0600
TZNAME:MDT
DTSTART:20250309T090000
END:DAYLIGHT
BEGIN:STANDARD
TZOFFSETFROM:-0600
TZOFFSETTO:-0700
TZNAME:MST
DTSTART:20251102T080000
END:STANDARD
BEGIN:DAYLIGHT
TZOFFSETFROM:-0700
TZOFFSETTO:-0600
TZNAME:MDT
DTSTART:20260308T090000
END:DAYLIGHT
BEGIN:STANDARD
TZOFFSETFROM:-0600
TZOFFSETTO:-0700
TZNAME:MST
DTSTART:20261101T080000
END:STANDARD
BEGIN:DAYLIGHT
TZOFFSETFROM:-0700
TZOFFSETTO:-0600
TZNAME:MDT
DTSTART:20270314T090000
END:DAYLIGHT
BEGIN:STANDARD
TZOFFSETFROM:-0600
TZOFFSETTO:-0700
TZNAME:MST
DTSTART:20271107T080000
END:STANDARD
END:VTIMEZONE
BEGIN:VEVENT
DTSTART;TZID=America/Boise:20260325T113000
DTEND;TZID=America/Boise:20260325T123000
DTSTAMP:20260424T005849
CREATED:20260302T202015Z
LAST-MODIFIED:20260302T202015Z
UID:26930-1774438200-1774441800@www.otech.edu
SUMMARY:LinkedIn Workshop
DESCRIPTION:Learn everything you need for a stand-out LinkedIn profile! Get a free professional headshop taken\, and bring a device to work on while you snack and connect.
URL:https://www.otech.edu/event/linkedin-workshop/
LOCATION:Business Technology Building\, Main Campus\, 200 N Washington Blvd\, Ogden\, UT\, 84404
CATEGORIES:Student Success Center
END:VEVENT
END:VCALENDAR