BEGIN:VCALENDAR
VERSION:2.0
PRODID:-//Ogden Weber Technical College - ECPv6.15.18//NONSGML v1.0//EN
CALSCALE:GREGORIAN
METHOD:PUBLISH
X-WR-CALNAME:Ogden Weber Technical College
X-ORIGINAL-URL:https://www.otech.edu
X-WR-CALDESC:Events for Ogden Weber Technical College
REFRESH-INTERVAL;VALUE=DURATION:PT1H
X-Robots-Tag:noindex
X-PUBLISHED-TTL:PT1H
BEGIN:VTIMEZONE
TZID:America/Boise
BEGIN:DAYLIGHT
TZOFFSETFROM:-0700
TZOFFSETTO:-0600
TZNAME:MDT
DTSTART:20250309T090000
END:DAYLIGHT
BEGIN:STANDARD
TZOFFSETFROM:-0600
TZOFFSETTO:-0700
TZNAME:MST
DTSTART:20251102T080000
END:STANDARD
BEGIN:DAYLIGHT
TZOFFSETFROM:-0700
TZOFFSETTO:-0600
TZNAME:MDT
DTSTART:20260308T090000
END:DAYLIGHT
BEGIN:STANDARD
TZOFFSETFROM:-0600
TZOFFSETTO:-0700
TZNAME:MST
DTSTART:20261101T080000
END:STANDARD
BEGIN:DAYLIGHT
TZOFFSETFROM:-0700
TZOFFSETTO:-0600
TZNAME:MDT
DTSTART:20270314T090000
END:DAYLIGHT
BEGIN:STANDARD
TZOFFSETFROM:-0600
TZOFFSETTO:-0700
TZNAME:MST
DTSTART:20271107T080000
END:STANDARD
BEGIN:DAYLIGHT
TZOFFSETFROM:-0700
TZOFFSETTO:-0600
TZNAME:MDT
DTSTART:20280312T090000
END:DAYLIGHT
BEGIN:STANDARD
TZOFFSETFROM:-0600
TZOFFSETTO:-0700
TZNAME:MST
DTSTART:20281105T080000
END:STANDARD
END:VTIMEZONE
BEGIN:VEVENT
DTSTART;TZID=America/Boise:20260512T080000
DTEND;TZID=America/Boise:20260512T120000
DTSTAMP:20260423T115607
CREATED:20251222T213055Z
LAST-MODIFIED:20251222T213055Z
UID:24564-1778572800-1778587200@www.otech.edu
SUMMARY:Leading Through Change
DESCRIPTION:Change is one constant that we all deal with. Gaining the skills to anticipate and lead change with your teams provides the opportunity to guide through the upheaval. Whether change creates minimal impact or major disruption\, understanding the dynamics of change will allow you to move forward in a more productive and positive manner.
URL:https://www.otech.edu/event/leading-through-change/
LOCATION:UT
CATEGORIES:Workshop Series
END:VEVENT
BEGIN:VEVENT
DTSTART;VALUE=DATE:20260525
DTEND;VALUE=DATE:20260526
DTSTAMP:20260423T115607
CREATED:20251015T201725Z
LAST-MODIFIED:20251015T201835Z
UID:23728-1779667200-1779753599@www.otech.edu
SUMMARY:Memorial Day
DESCRIPTION:
URL:https://www.otech.edu/event/memorial-day/
LOCATION:UT
CATEGORIES:College Closed
END:VEVENT
BEGIN:VEVENT
DTSTART;TZID=America/Boise:20260609T080000
DTEND;TZID=America/Boise:20260609T120000
DTSTAMP:20260423T115607
CREATED:20251222T213142Z
LAST-MODIFIED:20251222T213142Z
UID:24565-1780992000-1781006400@www.otech.edu
SUMMARY:Goal Setting & Coaching to Performance
DESCRIPTION:Coaching to goals is an ongoing process that requires continuous reflection and evaluation. Setting goals helps gain clarity\, focus\, and direction. Effective coaching meets each of your team members where they are and helps develop the skills needed for success in their roles. Goal setting helps to determine the measurable outcomes you want to achieve in the future and gives you a plan and path to achieve those goals. It lets you measure progress and stay motivated and helps beat procrastination and achieve more.
URL:https://www.otech.edu/event/goal-setting-coaching-to-performance-2/
LOCATION:UT
CATEGORIES:Workshop Series
END:VEVENT
BEGIN:VEVENT
DTSTART;VALUE=DATE:20260615
DTEND;VALUE=DATE:20260616
DTSTAMP:20260423T115607
CREATED:20251015T201757Z
LAST-MODIFIED:20251015T201842Z
UID:23729-1781481600-1781567999@www.otech.edu
SUMMARY:Juneteenth National Freedom Day
DESCRIPTION:
URL:https://www.otech.edu/event/juneteenth-national-freedom-day/
LOCATION:UT
CATEGORIES:College Closed
END:VEVENT
BEGIN:VEVENT
DTSTART;VALUE=DATE:20260703
DTEND;VALUE=DATE:20260704
DTSTAMP:20260423T115607
CREATED:20260127T184933Z
LAST-MODIFIED:20260127T184933Z
UID:25802-1783036800-1783123199@www.otech.edu
SUMMARY:Independence Day
DESCRIPTION:
URL:https://www.otech.edu/event/independence-day-2/
LOCATION:UT
CATEGORIES:College Closed
END:VEVENT
BEGIN:VEVENT
DTSTART;VALUE=DATE:20260706
DTEND;VALUE=DATE:20260708
DTSTAMP:20260423T115607
CREATED:20260127T185129Z
LAST-MODIFIED:20260127T185129Z
UID:25803-1783296000-1783468799@www.otech.edu
SUMMARY:Employee Workday
DESCRIPTION:
URL:https://www.otech.edu/event/employee-workday-4/
LOCATION:UT
CATEGORIES:No Class, Services Open
END:VEVENT
BEGIN:VEVENT
DTSTART;VALUE=DATE:20260708
DTEND;VALUE=DATE:20260709
DTSTAMP:20260423T115607
CREATED:20260127T185204Z
LAST-MODIFIED:20260127T185204Z
UID:25804-1783468800-1783555199@www.otech.edu
SUMMARY:Employee Development Day
DESCRIPTION:
URL:https://www.otech.edu/event/employee-development-day/
LOCATION:UT
CATEGORIES:No Students
END:VEVENT
BEGIN:VEVENT
DTSTART;VALUE=DATE:20260709
DTEND;VALUE=DATE:20260711
DTSTAMP:20260423T115607
CREATED:20260127T185240Z
LAST-MODIFIED:20260127T185240Z
UID:25805-1783555200-1783727999@www.otech.edu
SUMMARY:Employee Development Day (Kick-Off Activities)
DESCRIPTION:
URL:https://www.otech.edu/event/employee-development-day-kick-off-activities/
LOCATION:UT
CATEGORIES:No Students
END:VEVENT
BEGIN:VEVENT
DTSTART;TZID=America/Boise:20260724T080000
DTEND;TZID=America/Boise:20260724T170000
DTSTAMP:20260423T115607
CREATED:20260127T185324Z
LAST-MODIFIED:20260127T185324Z
UID:25806-1784880000-1784912400@www.otech.edu
SUMMARY:Pioneer Day
DESCRIPTION:
URL:https://www.otech.edu/event/pioneer-day-2/
LOCATION:UT
CATEGORIES:College Closed
END:VEVENT
BEGIN:VEVENT
DTSTART;TZID=America/Boise:20260811T080000
DTEND;TZID=America/Boise:20260811T120000
DTSTAMP:20260423T115607
CREATED:20251222T213236Z
LAST-MODIFIED:20251222T213236Z
UID:24566-1786435200-1786449600@www.otech.edu
SUMMARY:Employment Law for Leaders with Jonathan Driggs
DESCRIPTION:Your supervisors\, managers\, and executives have the most day-to-day interaction with employees\, yet they usually know the least about employment laws. This results in a tremendous amount of your company’s legal liability in the hands of the uninformed. The best way to reduce a company’s liability risk is to get the information in the hands of those who need it the most: your supervisors\, managers and executives. \nRegister
URL:https://www.otech.edu/event/employment-law-for-leaders-with-jonathan-driggs/
LOCATION:UT
CATEGORIES:Workshop Series
END:VEVENT
BEGIN:VEVENT
DTSTART;VALUE=DATE:20260907
DTEND;VALUE=DATE:20260908
DTSTAMP:20260423T115607
CREATED:20260127T185357Z
LAST-MODIFIED:20260127T185357Z
UID:25807-1788739200-1788825599@www.otech.edu
SUMMARY:Labor Day
DESCRIPTION:
URL:https://www.otech.edu/event/labor-day-2/
LOCATION:UT
CATEGORIES:College Closed
END:VEVENT
BEGIN:VEVENT
DTSTART;TZID=America/Boise:20260908T080000
DTEND;TZID=America/Boise:20260908T120000
DTSTAMP:20260423T115607
CREATED:20251222T213321Z
LAST-MODIFIED:20251222T213321Z
UID:24567-1788854400-1788868800@www.otech.edu
SUMMARY:Managing Projects and Priorities
DESCRIPTION:When juggling the many tasks of a leader\, learning how to prioritize and manage your time allows you to lead and complete projects effectively. Learn the basic principles of project management as well as multiple tools to prioritize and manage your time in a productive manner.
URL:https://www.otech.edu/event/managing-projects-and-priorities/
LOCATION:UT
CATEGORIES:Workshop Series
END:VEVENT
BEGIN:VEVENT
DTSTART;TZID=America/Boise:20261013T080000
DTEND;TZID=America/Boise:20261013T120000
DTSTAMP:20260423T115607
CREATED:20251222T213413Z
LAST-MODIFIED:20251222T213413Z
UID:24568-1791878400-1791892800@www.otech.edu
SUMMARY:Business Writing
DESCRIPTION:Often as leaders\, we must communicate in writing for many different purposes. It could be placing an order\, a corrective action\, professional development\, congratulations\, executive response\, etc. Grammar\, punctuation\, and effective messaging reflect you as a leader. Learn how to avoid many common mistakes and elevate your written communication.
URL:https://www.otech.edu/event/business-writing/
LOCATION:UT
CATEGORIES:Workshop Series
END:VEVENT
BEGIN:VEVENT
DTSTART;TZID=America/Boise:20261110T080000
DTEND;TZID=America/Boise:20261110T120000
DTSTAMP:20260423T115607
CREATED:20251222T213514Z
LAST-MODIFIED:20251222T213514Z
UID:24569-1794297600-1794312000@www.otech.edu
SUMMARY:Effective Presentations
DESCRIPTION:Whether it is a 5-minute shift change meeting or a presentation to the executive board\, the principles are the same. The ability to deliver information effectively is crucial to leadership success. Learn to organize your ideas to effectively present in any environment.
URL:https://www.otech.edu/event/effective-presentations/
LOCATION:UT
CATEGORIES:Workshop Series
END:VEVENT
BEGIN:VEVENT
DTSTART;VALUE=DATE:20261123
DTEND;VALUE=DATE:20261126
DTSTAMP:20260423T115607
CREATED:20260127T185428Z
LAST-MODIFIED:20260127T185428Z
UID:25808-1795392000-1795651199@www.otech.edu
SUMMARY:Employee Workday
DESCRIPTION:
URL:https://www.otech.edu/event/employee-workday-5/
LOCATION:UT
CATEGORIES:No Class, Services Open
END:VEVENT
BEGIN:VEVENT
DTSTART;VALUE=DATE:20261126
DTEND;VALUE=DATE:20261128
DTSTAMP:20260423T115607
CREATED:20260127T185501Z
LAST-MODIFIED:20260127T185501Z
UID:25809-1795651200-1795823999@www.otech.edu
SUMMARY:Thanksgiving
DESCRIPTION:
URL:https://www.otech.edu/event/thanksgiving-2/
LOCATION:UT
CATEGORIES:College Closed
END:VEVENT
BEGIN:VEVENT
DTSTART;VALUE=DATE:20261221
DTEND;VALUE=DATE:20261223
DTSTAMP:20260423T115607
CREATED:20260127T185535Z
LAST-MODIFIED:20260127T185535Z
UID:25810-1797811200-1797983999@www.otech.edu
SUMMARY:Employee Workday
DESCRIPTION:
URL:https://www.otech.edu/event/employee-workday-6/
LOCATION:UT
CATEGORIES:No Class, Services Open
END:VEVENT
BEGIN:VEVENT
DTSTART;VALUE=DATE:20261223
DTEND;VALUE=DATE:20261224
DTSTAMP:20260423T115607
CREATED:20260127T185610Z
LAST-MODIFIED:20260127T185610Z
UID:25811-1797984000-1798070399@www.otech.edu
SUMMARY:Employee Development Day
DESCRIPTION:
URL:https://www.otech.edu/event/employee-development-day-2/
LOCATION:UT
CATEGORIES:No Students
END:VEVENT
BEGIN:VEVENT
DTSTART;VALUE=DATE:20261224
DTEND;VALUE=DATE:20270102
DTSTAMP:20260423T115607
CREATED:20260127T185641Z
LAST-MODIFIED:20260127T185641Z
UID:25812-1798070400-1798847999@www.otech.edu
SUMMARY:Winter Break
DESCRIPTION:
URL:https://www.otech.edu/event/winter-break-2/
LOCATION:UT
CATEGORIES:College Closed
END:VEVENT
BEGIN:VEVENT
DTSTART;VALUE=DATE:20270118
DTEND;VALUE=DATE:20270119
DTSTAMP:20260423T115607
CREATED:20260127T185728Z
LAST-MODIFIED:20260127T185728Z
UID:25813-1800230400-1800316799@www.otech.edu
SUMMARY:Martin Luther King Day
DESCRIPTION:
URL:https://www.otech.edu/event/martin-luther-king-day-2/
LOCATION:UT
CATEGORIES:College Closed
END:VEVENT
BEGIN:VEVENT
DTSTART;VALUE=DATE:20270215
DTEND;VALUE=DATE:20270216
DTSTAMP:20260423T115607
CREATED:20260127T185755Z
LAST-MODIFIED:20260127T185755Z
UID:25814-1802649600-1802735999@www.otech.edu
SUMMARY:President’s Day
DESCRIPTION:
URL:https://www.otech.edu/event/presidents-day-2/
LOCATION:UT
CATEGORIES:College Closed
END:VEVENT
BEGIN:VEVENT
DTSTART;VALUE=DATE:20270329
DTEND;VALUE=DATE:20270331
DTSTAMP:20260423T115607
CREATED:20260127T185836Z
LAST-MODIFIED:20260127T185836Z
UID:25815-1806278400-1806451199@www.otech.edu
SUMMARY:Employee Workday
DESCRIPTION:
URL:https://www.otech.edu/event/employee-workday-7/
LOCATION:UT
CATEGORIES:No Class, Services Open
END:VEVENT
BEGIN:VEVENT
DTSTART;VALUE=DATE:20270331
DTEND;VALUE=DATE:20270401
DTSTAMP:20260423T115607
CREATED:20260127T185902Z
LAST-MODIFIED:20260127T185902Z
UID:25816-1806451200-1806537599@www.otech.edu
SUMMARY:Employee Development Day
DESCRIPTION:
URL:https://www.otech.edu/event/employee-development-day-3/
LOCATION:UT
CATEGORIES:No Students
END:VEVENT
BEGIN:VEVENT
DTSTART;VALUE=DATE:20270401
DTEND;VALUE=DATE:20270403
DTSTAMP:20260423T115607
CREATED:20260127T185931Z
LAST-MODIFIED:20260127T185931Z
UID:25817-1806537600-1806710399@www.otech.edu
SUMMARY:Spring Break
DESCRIPTION:
URL:https://www.otech.edu/event/spring-break-2/
LOCATION:UT
CATEGORIES:College Closed
END:VEVENT
BEGIN:VEVENT
DTSTART;VALUE=DATE:20270531
DTEND;VALUE=DATE:20270601
DTSTAMP:20260423T115607
CREATED:20260127T190007Z
LAST-MODIFIED:20260127T190007Z
UID:25818-1811721600-1811807999@www.otech.edu
SUMMARY:Memorial Day
DESCRIPTION:
URL:https://www.otech.edu/event/memorial-day-2/
LOCATION:UT
CATEGORIES:College Closed
END:VEVENT
BEGIN:VEVENT
DTSTART;VALUE=DATE:20270621
DTEND;VALUE=DATE:20270622
DTSTAMP:20260423T115607
CREATED:20260127T190029Z
LAST-MODIFIED:20260127T190029Z
UID:25819-1813536000-1813622399@www.otech.edu
SUMMARY:Juneteenth National Freedom Day
DESCRIPTION:
URL:https://www.otech.edu/event/juneteenth-national-freedom-day-2/
LOCATION:UT
CATEGORIES:College Closed
END:VEVENT
END:VCALENDAR