BEGIN:VCALENDAR
VERSION:2.0
PRODID:-//Ogden Weber Technical College - ECPv6.15.18//NONSGML v1.0//EN
CALSCALE:GREGORIAN
METHOD:PUBLISH
X-WR-CALNAME:Ogden Weber Technical College
X-ORIGINAL-URL:https://www.otech.edu
X-WR-CALDESC:Events for Ogden Weber Technical College
REFRESH-INTERVAL;VALUE=DURATION:PT1H
X-Robots-Tag:noindex
X-PUBLISHED-TTL:PT1H
BEGIN:VTIMEZONE
TZID:America/Boise
BEGIN:DAYLIGHT
TZOFFSETFROM:-0700
TZOFFSETTO:-0600
TZNAME:MDT
DTSTART:20240310T090000
END:DAYLIGHT
BEGIN:STANDARD
TZOFFSETFROM:-0600
TZOFFSETTO:-0700
TZNAME:MST
DTSTART:20241103T080000
END:STANDARD
BEGIN:DAYLIGHT
TZOFFSETFROM:-0700
TZOFFSETTO:-0600
TZNAME:MDT
DTSTART:20250309T090000
END:DAYLIGHT
BEGIN:STANDARD
TZOFFSETFROM:-0600
TZOFFSETTO:-0700
TZNAME:MST
DTSTART:20251102T080000
END:STANDARD
BEGIN:DAYLIGHT
TZOFFSETFROM:-0700
TZOFFSETTO:-0600
TZNAME:MDT
DTSTART:20260308T090000
END:DAYLIGHT
BEGIN:STANDARD
TZOFFSETFROM:-0600
TZOFFSETTO:-0700
TZNAME:MST
DTSTART:20261101T080000
END:STANDARD
END:VTIMEZONE
BEGIN:VEVENT
DTSTART;VALUE=DATE:20250707
DTEND;VALUE=DATE:20250710
DTSTAMP:20260424T011315
CREATED:20260126T212010Z
LAST-MODIFIED:20260127T230047Z
UID:25776-1751846400-1752105599@www.otech.edu
SUMMARY:No Class\, Services open
DESCRIPTION:
URL:https://www.otech.edu/event/no-class-place-holder-july/
CATEGORIES:No Class, Services Open
END:VEVENT
BEGIN:VEVENT
DTSTART;VALUE=DATE:20250704
DTEND;VALUE=DATE:20250705
DTSTAMP:20260424T011315
CREATED:20260126T211916Z
LAST-MODIFIED:20260126T211916Z
UID:25775-1751587200-1751673599@www.otech.edu
SUMMARY:Independence Day
DESCRIPTION:
URL:https://www.otech.edu/event/independence-day/
CATEGORIES:College Closed
END:VEVENT
END:VCALENDAR